BEGIN:VCALENDAR
VERSION:2.0
PRODID:-//https://apivg.ru///NONSGML kigkonsult.se iCalcreator 2.10.15//
METHOD:PUBLISH
BEGIN:VEVENT
UID:20260425T152839MSK-76952tBddC@https://apivg.ru/
DTSTAMP:20260425T122839Z
DESCRIPTION:{article Налог на прибыль. Признаем расходы}[title] [text]{/art
 icle}
DTSTART:20200609T070000Z
DTEND:20200609T093000Z
LOCATION:Вебинар ()
SUMMARY:ВЕБИНАР: Налог на прибыль. Признаем расходы                        
                     
END:VEVENT
END:VCALENDAR
