BEGIN:VCALENDAR
VERSION:2.0
PRODID:-//https://apivg.ru///NONSGML kigkonsult.se iCalcreator 2.10.15//
METHOD:PUBLISH
BEGIN:VEVENT
UID:20260425T153154MSK-7026cVrUV0@https://apivg.ru/
DTSTAMP:20260425T123154Z
DESCRIPTION:{article title='Ликвидация юридического лица - 2020: основные п
 ути и практика применения'}[title] [text] [readmore]{/article}
DTSTART:20200625T070000Z
DTEND:20200625T093000Z
LOCATION:Вебинар ()
SUMMARY:ВЕБИНАР: Ликвидация юридического лица - 2020: основные пути и практ
 ика применения
END:VEVENT
END:VCALENDAR
