BEGIN:VCALENDAR
VERSION:2.0
PRODID:-//https://apivg.ru///NONSGML kigkonsult.se iCalcreator 2.10.15//
METHOD:PUBLISH
BEGIN:VEVENT
UID:20260425T152921MSK-1120Onu01r@https://apivg.ru/
DTSTAMP:20260425T122921Z
DESCRIPTION:{article dobrovolnaya-likvidatsiya-2020-detali-vebinar-new}[tit
 le] [text] [readmore]{/article}
DTSTART:20200625T103000Z
DTEND:20200625T130000Z
LOCATION:Вебинар ()
SUMMARY:ВЕБИНАР: Добровольная ликвидация  - 2020: детали 
END:VEVENT
END:VCALENDAR
