BEGIN:VCALENDAR
VERSION:2.0
PRODID:-//https://apivg.ru///NONSGML kigkonsult.se iCalcreator 2.10.15//
METHOD:PUBLISH
BEGIN:VEVENT
UID:20260419T184531MSK-16043ZS1Vp@https://apivg.ru/
DTSTAMP:20260419T154531Z
DESCRIPTION:{article elektronnye-trudovye-knizhki-2}[title] [text]{/article
 }
DTSTART:20200619T070000Z
DTEND:20200619T090000Z
LOCATION:Вебинар ()
SUMMARY:ВЕБИНАР: ЭЛЕКТРОННЫЕ ТРУДОВЫЕ КНИЖКИ
END:VEVENT
END:VCALENDAR
