BEGIN:VCALENDAR
VERSION:2.0
PRODID:-//https://apivg.ru///NONSGML kigkonsult.se iCalcreator 2.10.15//
METHOD:PUBLISH
BEGIN:VEVENT
UID:20260425T152344MSK-6277Jcdb5d@https://apivg.ru/
DTSTAMP:20260425T122344Z
DESCRIPTION:{article НДФЛ - 2020}[title] [text]{/article}
DTSTART:20200604T100000Z
DTEND:20200604T113000Z
LOCATION:Вебинар ()
SUMMARY:ВЕБИНАР: НДФЛ - 2020
END:VEVENT
END:VCALENDAR
