BEGIN:VCALENDAR
VERSION:2.0
PRODID:-//https://apivg.ru///NONSGML kigkonsult.se iCalcreator 2.10.15//
METHOD:PUBLISH
BEGIN:VEVENT
UID:20260425T165926MSK-4992BRpt0C@https://apivg.ru/
DTSTAMP:20260425T135926Z
DESCRIPTION:{article title='Налоги\, кассы\, взносы. Актуальные изменения з
 аконодательства в 2020 году.'}[title] [text]{/article}
DTSTART:20200615T070000Z
DTEND:20200615T093000Z
LOCATION:Вебинар ()
SUMMARY:ВЕБИНАР: Налоги\, касса\, взносы.  Актуальные изменения законодател
 ьства и разъяснения контролирующих органов в 2020 году
END:VEVENT
END:VCALENDAR
