BEGIN:VCALENDAR
VERSION:2.0
PRODID:-//https://apivg.ru///NONSGML kigkonsult.se iCalcreator 2.10.15//
METHOD:PUBLISH
BEGIN:VEVENT
UID:20260425T152839MSK-3052wWShib@https://apivg.ru/
DTSTAMP:20260425T122839Z
DESCRIPTION:{article Предоставляем работникам стандартные вычеты по НДФЛ}[t
 ext]{/article}
DTSTART:20200611T070000Z
DTEND:20200611T083000Z
LOCATION:Вебинар ()
SUMMARY:ВЕБИНАР: Предоставляем работникам стандартные вычеты по НДФЛ
END:VEVENT
END:VCALENDAR
