BEGIN:VCALENDAR
VERSION:2.0
PRODID:-//https://apivg.ru///NONSGML kigkonsult.se iCalcreator 2.10.15//
METHOD:PUBLISH
BEGIN:VEVENT
UID:20260425T165642MSK-9821dlvjf8@https://apivg.ru/
DTSTAMP:20260425T135642Z
DESCRIPTION:{article title='Оформление первичных учетных документов: соврем
 енный подход\, типичные ошибки'}[title] [text]{/article}
DTSTART:20200522T100000Z
DTEND:20200522T113000Z
LOCATION:Вебинар ()
SUMMARY:ВЕБИАНР: Оформление первичных учетных документов: современный подхо
 д\, типичные ошибки
END:VEVENT
END:VCALENDAR
